BEGIN:VCALENDAR
PRODID:-//PUBBLE//agenda//NL
VERSION:2.0
METHOD:PUBLISH
BEGIN:VEVENT
DTSTART:20260123T191500Z
DTEND:20260123T201500Z
DTSTAMP:20260424T060042Z
UID:c34cf49c-ace3-4e46-9473-ca6ede1457e6
CREATED:20260424T060042Z
NAME:Andre Manuel brugnieuws.nl
X-WR-CALNAME:Andre Manuel
X-ALT-DESC;FMTTYPE=text/html:<a href='/agenda/2026/1/23/andre-manuel-348541'>/agenda/2026/1/23/andre-manuel-348541</a> || <p>Het tweede deel van een nu al belachelijk succesvol drieluik over de mens, de mensen en de mensheid. Dit keer staat het vlees centraal. Van hamlappen tot micropenissen, van borstvergrotingen tot beenprotheses, van varkensboeren tot kannibalisme. Manuel fileert het menselijk lichaam én de menselijke moraal.&nbsp;</p><p>Deze voorstelling is onderdeel van het nationale theaterweekend.&nbsp;</p><p>Bestel je kaarten op <a href="//www.stadsgehoorzaalkampen.nl">www.stadsgehoorzaalkampen.nl</a>.</p>
DESCRIPTION:<a href='/agenda/2026/1/23/andre-manuel-348541'>/agenda/2026/1/23/andre-manuel-348541</a> || <p>Het tweede deel van een nu al belachelijk succesvol drieluik over de mens, de mensen en de mensheid. Dit keer staat het vlees centraal. Van hamlappen tot micropenissen, van borstvergrotingen tot beenprotheses, van varkensboeren tot kannibalisme. Manuel fileert het menselijk lichaam én de menselijke moraal.&nbsp;</p><p>Deze voorstelling is onderdeel van het nationale theaterweekend.&nbsp;</p><p>Bestel je kaarten op <a href="//www.stadsgehoorzaalkampen.nl">www.stadsgehoorzaalkampen.nl</a>.</p>
LAST-MODIFIED:20260424T060042Z
LOCATION: Stadsgehoorzaal | Burgwal 84 Kampen
SEQUENCE:0
STATUS:CONFIRMED
SUMMARY:Andre Manuel
TRANSP:OPAQUE
END:VEVENT
END:VCALENDAR
