BEGIN:VCALENDAR
PRODID:-//PUBBLE//agenda//NL
VERSION:2.0
METHOD:PUBLISH
BEGIN:VEVENT
DTSTART:20260124T181500Z
DTEND:20260124T201500Z
DTSTAMP:20260423T211841Z
UID:323eacae-e1c4-4db8-8443-6b17dd1a814a
CREATED:20260423T211841Z
NAME:Club Teatro brugnieuws.nl
X-WR-CALNAME:Club Teatro
X-ALT-DESC;FMTTYPE=text/html:<a href='/agenda/2026/1/24/club-teatro-348554'>/agenda/2026/1/24/club-teatro-348554</a> || <p>De leukste avonden van het theaterseizoen. Een avond uit met 4 voorstellingen van 20 minuten waarin je kennis maakt met makers, voorstellingen en experimenten in diverse genres. Een festival vibe, dwars door het mooiste theater van Nederland. Elke plek in ons gebouw gebruiken we als podium. Aan het eind van de avond een afterparty waarbij je zelf de muziek kiest!.&nbsp;</p><p>Club Teatro is onderdeel van Het Nationaal Theaterweekend.</p><p>Kijk voor kaarten op www.stadsgehoorzaalkampen.nl! &nbsp;</p>
DESCRIPTION:<a href='/agenda/2026/1/24/club-teatro-348554'>/agenda/2026/1/24/club-teatro-348554</a> || <p>De leukste avonden van het theaterseizoen. Een avond uit met 4 voorstellingen van 20 minuten waarin je kennis maakt met makers, voorstellingen en experimenten in diverse genres. Een festival vibe, dwars door het mooiste theater van Nederland. Elke plek in ons gebouw gebruiken we als podium. Aan het eind van de avond een afterparty waarbij je zelf de muziek kiest!.&nbsp;</p><p>Club Teatro is onderdeel van Het Nationaal Theaterweekend.</p><p>Kijk voor kaarten op www.stadsgehoorzaalkampen.nl! &nbsp;</p>
LAST-MODIFIED:20260423T211841Z
LOCATION: Stadsgehoorzaal | Burgwal 84 Kampen
SEQUENCE:0
STATUS:CONFIRMED
SUMMARY:Club Teatro
TRANSP:OPAQUE
END:VEVENT
END:VCALENDAR
