BEGIN:VCALENDAR
PRODID:-//PUBBLE//agenda//NL
VERSION:2.0
METHOD:PUBLISH
BEGIN:VEVENT
DTSTART:20260125T130000Z
DTEND:20251225T150000Z
DTSTAMP:20260424T013929Z
UID:8757723f-0c6b-4c73-a41d-bcfb2476445f
CREATED:20260424T013929Z
NAME:Utrecht String quartet brugnieuws.nl
X-WR-CALNAME:Utrecht String quartet
X-ALT-DESC;FMTTYPE=text/html:<a href='/agenda/2026/1/25/utrecht-string-quartet-348806'>/agenda/2026/1/25/utrecht-string-quartet-348806</a> || <p>Een muzikaal concert vol contrasten en verrassingen. Het Utrecht String Quartet speelt een vroeg strijkkwartet van Beethoven, naast bewerkingen van filmmuziek en tango. Joodse componisten als Waxman, Castelnuovo-Tedesco en Korngold vluchtten in de jaren ‘30 naar Amerika, waar zij de basis legden voor de Hollywood-sound. Hun muziek klinkt hier in arrangementen van Wijnand van Klaveren.&nbsp;</p><p>Deze voorstelling is onderdeel van Het Nationaal Theaterweekend.</p><p>Koop je kaarten op www.stadsgehoorzaalkampen.nl!</p>
DESCRIPTION:<a href='/agenda/2026/1/25/utrecht-string-quartet-348806'>/agenda/2026/1/25/utrecht-string-quartet-348806</a> || <p>Een muzikaal concert vol contrasten en verrassingen. Het Utrecht String Quartet speelt een vroeg strijkkwartet van Beethoven, naast bewerkingen van filmmuziek en tango. Joodse componisten als Waxman, Castelnuovo-Tedesco en Korngold vluchtten in de jaren ‘30 naar Amerika, waar zij de basis legden voor de Hollywood-sound. Hun muziek klinkt hier in arrangementen van Wijnand van Klaveren.&nbsp;</p><p>Deze voorstelling is onderdeel van Het Nationaal Theaterweekend.</p><p>Koop je kaarten op www.stadsgehoorzaalkampen.nl!</p>
LAST-MODIFIED:20260424T013929Z
LOCATION: Stadsgehoorzaal | Burgwal 84 Kampen
SEQUENCE:0
STATUS:CONFIRMED
SUMMARY:Utrecht String quartet
TRANSP:OPAQUE
END:VEVENT
END:VCALENDAR
