BEGIN:VCALENDAR
PRODID:-//PUBBLE//agenda//NL
VERSION:2.0
METHOD:PUBLISH
BEGIN:VEVENT
DTSTART:20260207T180000Z
DTEND:20260207T215900Z
DTSTAMP:20260421T203355Z
UID:dc9b2430-d617-4c12-871c-7cd414bdd8cb
CREATED:20260421T203355Z
NAME:Livemuziek met The Onion Men brugnieuws.nl
X-WR-CALNAME:Livemuziek met The Onion Men
X-ALT-DESC;FMTTYPE=text/html:<a href='/agenda/2026/2/7/livemuziek-met-the-onion-men-350614'>/agenda/2026/2/7/livemuziek-met-the-onion-men-350614</a> || <p>Harrie Wezenberg (Why Not, De Koekkoek Band) en Jan Kater (The Gamblers, Hydra) vormen samen The Onion Men. Het duo heeft over de jaren aardig wat muzikale ervaring op gedaan en dat hoor je. Rock, Blues, Rock ‘n Roll en zelfs Reggea komt voorbij. Op 7 februari staan ze op de altijd deinende podiumvloer van ‘t Ponton met een brede mix aan bekende nummers. Pak een kruk, een goed glas bier en geniet van deze gezellige avond </p>
DESCRIPTION:<a href='/agenda/2026/2/7/livemuziek-met-the-onion-men-350614'>/agenda/2026/2/7/livemuziek-met-the-onion-men-350614</a> || <p>Harrie Wezenberg (Why Not, De Koekkoek Band) en Jan Kater (The Gamblers, Hydra) vormen samen The Onion Men. Het duo heeft over de jaren aardig wat muzikale ervaring op gedaan en dat hoor je. Rock, Blues, Rock ‘n Roll en zelfs Reggea komt voorbij. Op 7 februari staan ze op de altijd deinende podiumvloer van ‘t Ponton met een brede mix aan bekende nummers. Pak een kruk, een goed glas bier en geniet van deze gezellige avond </p>
LAST-MODIFIED:20260421T203355Z
LOCATION: Cafe 't Ponton | IJsselkade 51 Kampen
SEQUENCE:0
STATUS:CONFIRMED
SUMMARY:Livemuziek met The Onion Men
TRANSP:OPAQUE
END:VEVENT
END:VCALENDAR
