BEGIN:VCALENDAR
PRODID:-//PUBBLE//agenda//NL
VERSION:2.0
METHOD:PUBLISH
BEGIN:VEVENT
DTSTART:20260201T111500Z
DTEND:20260201T140000Z
DTSTAMP:20260422T133929Z
UID:c7007ed3-9ca1-4aa6-b784-06207731be97
CREATED:20260422T133929Z
NAME:Franciscus-feest met verhaalconcert brugnieuws.nl
X-WR-CALNAME:Franciscus-feest met verhaalconcert
X-ALT-DESC;FMTTYPE=text/html:<a href='/agenda/2026/2/1/franciscus-feest-met-verhaalconcert-352126'>/agenda/2026/2/1/franciscus-feest-met-verhaalconcert-352126</a> || <p>Franciscus van Asisi in woord, beeld en muziek!<br>In de gebedsviering van 12-16u staat centraal het verhaalconcert over Franciscus van Asisi van 13:15 – 14:30 door Irene Koning en Arjo de Vries.<br>In aanvulling op dit verhaalconcert spreken we door met voorgangers van diverse Franciscaanse groepen over o.a. de boodschappen van Paus Franciscus en Paus Leo voor vluchtelingen.<br>Inloop bij de Open Hof vanaf 12u, toegang gratis<br>Zie ook franciscaansebeweging.nl/activiteiten</p>
DESCRIPTION:<a href='/agenda/2026/2/1/franciscus-feest-met-verhaalconcert-352126'>/agenda/2026/2/1/franciscus-feest-met-verhaalconcert-352126</a> || <p>Franciscus van Asisi in woord, beeld en muziek!<br>In de gebedsviering van 12-16u staat centraal het verhaalconcert over Franciscus van Asisi van 13:15 – 14:30 door Irene Koning en Arjo de Vries.<br>In aanvulling op dit verhaalconcert spreken we door met voorgangers van diverse Franciscaanse groepen over o.a. de boodschappen van Paus Franciscus en Paus Leo voor vluchtelingen.<br>Inloop bij de Open Hof vanaf 12u, toegang gratis<br>Zie ook franciscaansebeweging.nl/activiteiten</p>
LAST-MODIFIED:20260422T133929Z
LOCATION: Open Hof | Lelystraat 49 Kampen
SEQUENCE:0
STATUS:CONFIRMED
SUMMARY:Franciscus-feest met verhaalconcert
TRANSP:OPAQUE
END:VEVENT
END:VCALENDAR
