BEGIN:VCALENDAR
PRODID:-//PUBBLE//agenda//NL
VERSION:2.0
METHOD:PUBLISH
BEGIN:VEVENT
DTSTART:20260124T180000Z
DTEND:20260124T200000Z
DTSTAMP:20260424T175230Z
UID:edf72ac6-26ad-4050-bc71-7f9e3631ce25
CREATED:20260424T175230Z
NAME:Nieuwsjaarconcert - Met Bach het nieuwe jaar in brugnieuws.nl
X-WR-CALNAME:Nieuwsjaarconcert - Met Bach het nieuwe jaar in
X-ALT-DESC;FMTTYPE=text/html:<a href='/agenda/2026/1/24/nieuwsjaarconcert-met-bach-het-nieuwe-jaar-in-352816'>/agenda/2026/1/24/nieuwsjaarconcert-met-bach-het-nieuwe-jaar-in-352816</a> || <p>Op 24 januari 2026 is het traditionele nieuwjaarsconcert ‘Met Bach het nieuwe jaar in’ in de Burgwal. Sander van den Houten (orgel) en Ab Weegenaar (orgel en fagot) zullen een concert verzorgen met werken van Bach. Deze worden uitgevoerd op het orgel en fagot. Het concert begint om 20.00 uur. Entree €15 inclusief hapje en drankje. </p>
DESCRIPTION:<a href='/agenda/2026/1/24/nieuwsjaarconcert-met-bach-het-nieuwe-jaar-in-352816'>/agenda/2026/1/24/nieuwsjaarconcert-met-bach-het-nieuwe-jaar-in-352816</a> || <p>Op 24 januari 2026 is het traditionele nieuwjaarsconcert ‘Met Bach het nieuwe jaar in’ in de Burgwal. Sander van den Houten (orgel) en Ab Weegenaar (orgel en fagot) zullen een concert verzorgen met werken van Bach. Deze worden uitgevoerd op het orgel en fagot. Het concert begint om 20.00 uur. Entree €15 inclusief hapje en drankje. </p>
LAST-MODIFIED:20260424T175230Z
LOCATION: De Burgwal - Huis van muziek en verdieping | Burgwal 60 Kampen
SEQUENCE:0
STATUS:CONFIRMED
SUMMARY:Nieuwsjaarconcert - Met Bach het nieuwe jaar in
TRANSP:OPAQUE
END:VEVENT
END:VCALENDAR
