BEGIN:VCALENDAR
PRODID:-//PUBBLE//agenda//NL
VERSION:2.0
METHOD:PUBLISH
BEGIN:VEVENT
DTSTART:20260201T150000Z
DTEND:20260201T170000Z
DTSTAMP:20260424T024725Z
UID:58c04602-8157-4803-aee2-259e1d8065d2
CREATED:20260424T024725Z
NAME:Taizé Vesper 17.00 uur in Nieuwe Kerk brugnieuws.nl
X-WR-CALNAME:Taizé Vesper 17.00 uur in Nieuwe Kerk
X-ALT-DESC;FMTTYPE=text/html:<a href='/agenda/2026/2/1/taize-vesper-17-00-uur-in-nieuwe-kerk-352908'>/agenda/2026/2/1/taize-vesper-17-00-uur-in-nieuwe-kerk-352908</a> || <p><strong></strong>Welkom, <strong>zondag 1 februari</strong> om <strong>17.00 uur</strong> in een <strong>Taizé Vesper</strong> in de Nieuwe Kerk (NGK) Broederweg 34, Kampen. <strong>Een gezongen avondgebed in de stijl van Taizé</strong>, met ingetogen samenzangen in verschillende talen in afwisseling met korte, intentievolle stiltes en Bijbellezingen. <strong>Kom samen zingen met&nbsp;</strong>kleinkoor uit<strong>&nbsp;Kavóca</strong> o.l.v. Luthine Postuma, Wilma Lipke (viool), Wietske Tempel (fluit), Gert van Heerde (cajon, bells, chymes), Harry Hamer (orgel), Jaco Weij (liturg). In de kerk ontvang je een een liturgie.</p>
DESCRIPTION:<a href='/agenda/2026/2/1/taize-vesper-17-00-uur-in-nieuwe-kerk-352908'>/agenda/2026/2/1/taize-vesper-17-00-uur-in-nieuwe-kerk-352908</a> || <p><strong></strong>Welkom, <strong>zondag 1 februari</strong> om <strong>17.00 uur</strong> in een <strong>Taizé Vesper</strong> in de Nieuwe Kerk (NGK) Broederweg 34, Kampen. <strong>Een gezongen avondgebed in de stijl van Taizé</strong>, met ingetogen samenzangen in verschillende talen in afwisseling met korte, intentievolle stiltes en Bijbellezingen. <strong>Kom samen zingen met&nbsp;</strong>kleinkoor uit<strong>&nbsp;Kavóca</strong> o.l.v. Luthine Postuma, Wilma Lipke (viool), Wietske Tempel (fluit), Gert van Heerde (cajon, bells, chymes), Harry Hamer (orgel), Jaco Weij (liturg). In de kerk ontvang je een een liturgie.</p>
LAST-MODIFIED:20260424T024725Z
LOCATION: Nieuwe Kerk | Broederweg 34 Kampen
SEQUENCE:0
STATUS:CONFIRMED
SUMMARY:Taizé Vesper 17.00 uur in Nieuwe Kerk
TRANSP:OPAQUE
END:VEVENT
END:VCALENDAR
