BEGIN:VCALENDAR
PRODID:-//PUBBLE//agenda//NL
VERSION:2.0
METHOD:PUBLISH
BEGIN:VEVENT
DTSTART:20260131T181500Z
DTEND:20260131T201500Z
DTSTAMP:20260423T045913Z
UID:fa8d823a-0ca9-4533-8a60-4bc76a0617cc
CREATED:20260423T045913Z
NAME:The Last Viking brugnieuws.nl
X-WR-CALNAME:The Last Viking
X-ALT-DESC;FMTTYPE=text/html:<a href='/agenda/2026/1/31/the-last-viking-352935'>/agenda/2026/1/31/the-last-viking-352935</a> || <p>Anker komt vrij na een gevangenisstraf van vijftien jaar. Zijn broer Manfred heeft de buit van zijn bankroof destijds begraven en weet als enige waar het is. Helaas heeft Manfred een psychische stoornis ontwikkeld, waardoor hij alles vergeet. Het ene moment denkt dat hij een Viking is en het andere moment de wedergeboren John Lennon. Met een bloeddorstige rivaal op de hielen start een race tegen de klok en gaan de broers zowel op zoek naar het geld als naar zichzelf. Info: www.filmhuiskampen.nl</p>
DESCRIPTION:<a href='/agenda/2026/1/31/the-last-viking-352935'>/agenda/2026/1/31/the-last-viking-352935</a> || <p>Anker komt vrij na een gevangenisstraf van vijftien jaar. Zijn broer Manfred heeft de buit van zijn bankroof destijds begraven en weet als enige waar het is. Helaas heeft Manfred een psychische stoornis ontwikkeld, waardoor hij alles vergeet. Het ene moment denkt dat hij een Viking is en het andere moment de wedergeboren John Lennon. Met een bloeddorstige rivaal op de hielen start een race tegen de klok en gaan de broers zowel op zoek naar het geld als naar zichzelf. Info: www.filmhuiskampen.nl</p>
LAST-MODIFIED:20260423T045913Z
LOCATION: Filmhuis Kampen | Burgwal 84 Kampen
SEQUENCE:0
STATUS:CONFIRMED
SUMMARY:The Last Viking
TRANSP:OPAQUE
END:VEVENT
END:VCALENDAR
