BEGIN:VCALENDAR
PRODID:-//PUBBLE//agenda//NL
VERSION:2.0
METHOD:PUBLISH
BEGIN:VEVENT
DTSTART:20260201T110000Z
DTEND:20260201T150000Z
DTSTAMP:20260423T131926Z
UID:6625de40-8644-4130-94e2-a1957ce409f4
CREATED:20260423T131926Z
NAME:Zondagsrust - Levi Boon brugnieuws.nl
X-WR-CALNAME:Zondagsrust - Levi Boon
X-ALT-DESC;FMTTYPE=text/html:<a href='/agenda/2026/2/1/zondagsrust-levi-boon-353750'>/agenda/2026/2/1/zondagsrust-levi-boon-353750</a> || <p>Genieten van sfeervolle livemuziek op zondagmiddagen met een borrelplankje en wat te drinken. Met elke maand weer een andere artiest. Er is van alles te doen voor kinderen, zoals knutselen en buiten spelen. Op sommige middagen worden er zelfs speciale kinderactiviteiten georganiseerd voor kinderen van 4 tot 12 jaar. Met mooi weer vindt Zondagsrust buiten plaats en in de winter wordt de zaal sfeervol ingericht. Toegang is gratis. ww.ukien.nl/agenda<br /><br />Met deze zondag: Levi Boon. Een jonge muzikant die zingt alsof ze fluitert tegen de ziel. In Oktober 2025 heeft ze haar eerste album uitgebracht, genaamd ‘For Days, For Hours’ . Een artiest om goed in de gaten te houden!<br /><br /><br /></p>
DESCRIPTION:<a href='/agenda/2026/2/1/zondagsrust-levi-boon-353750'>/agenda/2026/2/1/zondagsrust-levi-boon-353750</a> || <p>Genieten van sfeervolle livemuziek op zondagmiddagen met een borrelplankje en wat te drinken. Met elke maand weer een andere artiest. Er is van alles te doen voor kinderen, zoals knutselen en buiten spelen. Op sommige middagen worden er zelfs speciale kinderactiviteiten georganiseerd voor kinderen van 4 tot 12 jaar. Met mooi weer vindt Zondagsrust buiten plaats en in de winter wordt de zaal sfeervol ingericht. Toegang is gratis. ww.ukien.nl/agenda<br /><br />Met deze zondag: Levi Boon. Een jonge muzikant die zingt alsof ze fluitert tegen de ziel. In Oktober 2025 heeft ze haar eerste album uitgebracht, genaamd ‘For Days, For Hours’ . Een artiest om goed in de gaten te houden!<br /><br /><br /></p>
LAST-MODIFIED:20260423T131926Z
LOCATION: 't Ukien | Korteweg 4 Kampen
SEQUENCE:0
STATUS:CONFIRMED
SUMMARY:Zondagsrust - Levi Boon
TRANSP:OPAQUE
END:VEVENT
END:VCALENDAR
