BEGIN:VCALENDAR
PRODID:-//PUBBLE//agenda//NL
VERSION:2.0
METHOD:PUBLISH
BEGIN:VEVENT
DTSTART:20260213T180000Z
DTEND:20260213T210000Z
DTSTAMP:20260422T140715Z
UID:2acb1a73-a45b-4f4c-ab9a-ee1f2a738283
CREATED:20260422T140715Z
NAME:Stappers van Toen - Henri Nuyen brugnieuws.nl
X-WR-CALNAME:Stappers van Toen - Henri Nuyen
X-ALT-DESC;FMTTYPE=text/html:<a href='/agenda/2026/2/13/stappers-van-toen-henri-nuyen-353755'>/agenda/2026/2/13/stappers-van-toen-henri-nuyen-353755</a> || <p>Stappers van Toen wordt elke 2e vrijdag van de maand georganiseerd, met elke keer weer een andere artiest. Lekker uitgaan met live muziek in de sfeer van toen! Met een hapje en een drankje ook mag er gedanst worden voor wie wil! Kom samen of kom alleen, iedereen is welkom! Toegang is gratis. Kijk op onze site wie er elke maand spelen. www.ukien.nl/agenda</p><p>Deze keer met muziek van Henry Nuenen! </p>
DESCRIPTION:<a href='/agenda/2026/2/13/stappers-van-toen-henri-nuyen-353755'>/agenda/2026/2/13/stappers-van-toen-henri-nuyen-353755</a> || <p>Stappers van Toen wordt elke 2e vrijdag van de maand georganiseerd, met elke keer weer een andere artiest. Lekker uitgaan met live muziek in de sfeer van toen! Met een hapje en een drankje ook mag er gedanst worden voor wie wil! Kom samen of kom alleen, iedereen is welkom! Toegang is gratis. Kijk op onze site wie er elke maand spelen. www.ukien.nl/agenda</p><p>Deze keer met muziek van Henry Nuenen! </p>
LAST-MODIFIED:20260422T140715Z
LOCATION: 't Ukien | Korteweg 4 Kampen
SEQUENCE:0
STATUS:CONFIRMED
SUMMARY:Stappers van Toen - Henri Nuyen
TRANSP:OPAQUE
END:VEVENT
END:VCALENDAR
