BEGIN:VCALENDAR
PRODID:-//PUBBLE//agenda//NL
VERSION:2.0
METHOD:PUBLISH
BEGIN:VEVENT
DTSTART:20260206T180000Z
DTEND:20260206T210000Z
DTSTAMP:20260423T235839Z
UID:024a6bec-4016-4dfd-80dc-49d954e72b47
CREATED:20260423T235839Z
NAME:Rose Wolk borrel / Thema: Valentines Day brugnieuws.nl
X-WR-CALNAME:Rose Wolk borrel / Thema: Valentines Day
X-ALT-DESC;FMTTYPE=text/html:<a href='/agenda/2026/2/6/rose-wolk-borrel-thema-valentines-day-353760'>/agenda/2026/2/6/rose-wolk-borrel-thema-valentines-day-353760</a> || <p>Ontmoetingsplek voor mensen in en rondom de LHBTIQ+ gemeenschap. De Rose Wolk is een groep jonge mensen die supergezellige activiteiten en bijeenkomsten organiseren voor mensen uit de LHBTIQ+ gemeenschap en mensen die het leuk vinden om hierbij betrokken te zijn.<br /><br />Elke eerste vrijdag van de maand vindt er een borrel plaats waar bezoekers van harte welkom zijn voor een goed gesprek, een spelletje, een plotselinge karaoke-sessie, noem maar op. Ook word op de derde vrijdag van de maand thema-bijeenkomsten georganiseerd. Zo hebben we spel- en filmavonden, DIY/knutselavonden, concerten en nog veel meer! Toegang is gratis.</p>
DESCRIPTION:<a href='/agenda/2026/2/6/rose-wolk-borrel-thema-valentines-day-353760'>/agenda/2026/2/6/rose-wolk-borrel-thema-valentines-day-353760</a> || <p>Ontmoetingsplek voor mensen in en rondom de LHBTIQ+ gemeenschap. De Rose Wolk is een groep jonge mensen die supergezellige activiteiten en bijeenkomsten organiseren voor mensen uit de LHBTIQ+ gemeenschap en mensen die het leuk vinden om hierbij betrokken te zijn.<br /><br />Elke eerste vrijdag van de maand vindt er een borrel plaats waar bezoekers van harte welkom zijn voor een goed gesprek, een spelletje, een plotselinge karaoke-sessie, noem maar op. Ook word op de derde vrijdag van de maand thema-bijeenkomsten georganiseerd. Zo hebben we spel- en filmavonden, DIY/knutselavonden, concerten en nog veel meer! Toegang is gratis.</p>
LAST-MODIFIED:20260423T235839Z
LOCATION: 't Ukien | Korteweg 4 Kampen
SEQUENCE:0
STATUS:CONFIRMED
SUMMARY:Rose Wolk borrel / Thema: Valentines Day
TRANSP:OPAQUE
END:VEVENT
END:VCALENDAR
