BEGIN:VCALENDAR
PRODID:-//PUBBLE//agenda//NL
VERSION:2.0
METHOD:PUBLISH
BEGIN:VEVENT
DTSTART:20260214T143000Z
DTEND:20260214T162000Z
DTSTAMP:20260423T011151Z
UID:f5cb9612-16ab-4090-929c-7f0bab598e51
CREATED:20260423T011151Z
NAME:Choral Evensong brugnieuws.nl
X-WR-CALNAME:Choral Evensong
X-ALT-DESC;FMTTYPE=text/html:<a href='/agenda/2026/2/14/choral-evensong-353899'>/agenda/2026/2/14/choral-evensong-353899</a> || <p>Op zaterdag 14-02 zingt het Kampen Boys Choir weer een Engelse Choral Evensong in de Bovenkerk. Dit jongenskoor behoort tot de top in Nederland. Het omvat goed geschoolde zangstemmen, getraind in een koorklank van hoge kwaliteit. Een Choral Evensong is een gezongen avonddienst, waarin de muziek het woord voert. Het duurt ongeveer 50 minuten. Dirigent is Sander van den Houten, organist is Wibren Jonkers. Er klinkt muziek van o.a. Stanford en Ireland. Toegang vrij met collecte bij de uitgang.</p>
DESCRIPTION:<a href='/agenda/2026/2/14/choral-evensong-353899'>/agenda/2026/2/14/choral-evensong-353899</a> || <p>Op zaterdag 14-02 zingt het Kampen Boys Choir weer een Engelse Choral Evensong in de Bovenkerk. Dit jongenskoor behoort tot de top in Nederland. Het omvat goed geschoolde zangstemmen, getraind in een koorklank van hoge kwaliteit. Een Choral Evensong is een gezongen avonddienst, waarin de muziek het woord voert. Het duurt ongeveer 50 minuten. Dirigent is Sander van den Houten, organist is Wibren Jonkers. Er klinkt muziek van o.a. Stanford en Ireland. Toegang vrij met collecte bij de uitgang.</p>
LAST-MODIFIED:20260423T011151Z
LOCATION: Bovenkerk | Koornmarkt 28 Kampen
SEQUENCE:0
STATUS:CONFIRMED
SUMMARY:Choral Evensong
TRANSP:OPAQUE
END:VEVENT
END:VCALENDAR
