BEGIN:VCALENDAR
PRODID:-//PUBBLE//agenda//NL
VERSION:2.0
METHOD:PUBLISH
BEGIN:VEVENT
DTSTART:20260214T085900Z
DTEND:20260214T095900Z
DTSTAMP:20260420T032959Z
UID:8f455fbb-4455-4c3b-a2b6-29d634435886
CREATED:20260420T032959Z
NAME:Peter Slager presenteert kunstboek Industrial Textures brugnieuws.nl
X-WR-CALNAME:Peter Slager presenteert kunstboek Industrial Textures
X-ALT-DESC;FMTTYPE=text/html:<a href='/agenda/2026/2/14/peter-slager-presenteert-kunstboek-industrial-textures-354260'>/agenda/2026/2/14/peter-slager-presenteert-kunstboek-industrial-textures-354260</a> || <p>Op zaterdag 14 februari om 10.59 uur presenteert Peter Slager zijn boek<em>&nbsp;Industrial Textures</em> aan de Oudestraat 96 in Kampen. Iedereen is welkom. Tijdens de presentatie is er een kleine expositie van zijn werk te zien. Slager is aanwezig van 9.00 tot 18.00 uur. Het boek is ter plekke verkrijgbaar (regulier of collectors edition), desgewenst gesigneerd, evenals posters en andere items.</p>
DESCRIPTION:<a href='/agenda/2026/2/14/peter-slager-presenteert-kunstboek-industrial-textures-354260'>/agenda/2026/2/14/peter-slager-presenteert-kunstboek-industrial-textures-354260</a> || <p>Op zaterdag 14 februari om 10.59 uur presenteert Peter Slager zijn boek<em>&nbsp;Industrial Textures</em> aan de Oudestraat 96 in Kampen. Iedereen is welkom. Tijdens de presentatie is er een kleine expositie van zijn werk te zien. Slager is aanwezig van 9.00 tot 18.00 uur. Het boek is ter plekke verkrijgbaar (regulier of collectors edition), desgewenst gesigneerd, evenals posters en andere items.</p>
LAST-MODIFIED:20260420T032959Z
LOCATION: Nieuwe locatie | Oudestraat 96 Kampen
SEQUENCE:0
STATUS:CONFIRMED
SUMMARY:Peter Slager presenteert kunstboek Industrial Textures
TRANSP:OPAQUE
END:VEVENT
END:VCALENDAR
