BEGIN:VCALENDAR
PRODID:-//PUBBLE//agenda//NL
VERSION:2.0
METHOD:PUBLISH
BEGIN:VEVENT
DTSTART:20260417T181500Z
DTEND:20260417T201500Z
DTSTAMP:20260421T102851Z
UID:20bc2eb4-d224-4236-9315-fbe74db470e1
CREATED:20260421T102851Z
NAME:Supertrap - Goodbye Stranger brugnieuws.nl
X-WR-CALNAME:Supertrap - Goodbye Stranger
X-ALT-DESC;FMTTYPE=text/html:<a href='/agenda/2026/4/17/supertrap-goodbye-stranger-355348'>/agenda/2026/4/17/supertrap-goodbye-stranger-355348</a> || <p>Als je de muziek van Supertramp en Supertrap na elkaar hoort merk je weinig verschil. Natuurlijk gaat er niets boven Supertramp zelf, maar deze formatie komt eng dichtbij het origineel. Na drie succesvolle jaren neemt Supertrap de grote hits en iconische nummers nog één keer door: ‘School’, ‘The Logical Song’, ‘Fool’s Overture’ en natuurlijk ‘Goodbye Stranger. We kunnen er geen genoeg van krijgen.</p><p>Bestel je kaarten op www.stadsgehoorzaalkampen.nl!</p>
DESCRIPTION:<a href='/agenda/2026/4/17/supertrap-goodbye-stranger-355348'>/agenda/2026/4/17/supertrap-goodbye-stranger-355348</a> || <p>Als je de muziek van Supertramp en Supertrap na elkaar hoort merk je weinig verschil. Natuurlijk gaat er niets boven Supertramp zelf, maar deze formatie komt eng dichtbij het origineel. Na drie succesvolle jaren neemt Supertrap de grote hits en iconische nummers nog één keer door: ‘School’, ‘The Logical Song’, ‘Fool’s Overture’ en natuurlijk ‘Goodbye Stranger. We kunnen er geen genoeg van krijgen.</p><p>Bestel je kaarten op www.stadsgehoorzaalkampen.nl!</p>
LAST-MODIFIED:20260421T102851Z
LOCATION: De Stadsgehoorzaal Kampen | Burgwal 84 Kampen
SEQUENCE:0
STATUS:CONFIRMED
SUMMARY:Supertrap - Goodbye Stranger
TRANSP:OPAQUE
END:VEVENT
END:VCALENDAR
