BEGIN:VCALENDAR
PRODID:-//PUBBLE//agenda//NL
VERSION:2.0
METHOD:PUBLISH
BEGIN:VEVENT
DTSTART:20260226T090000Z
DTEND:20260731T154400Z
DTSTAMP:20260422T173130Z
UID:fb45e955-9bb9-4b46-b788-725bab509350
CREATED:20260422T173130Z
NAME:Expositie Krin Rinsema (grafica) bij Stadsgalerie Vooruitzicht brugnieuws.nl
X-WR-CALNAME:Expositie Krin Rinsema (grafica) bij Stadsgalerie Vooruitzicht
X-ALT-DESC;FMTTYPE=text/html:<a href='/agenda/2026/2/26/expositie-krin-rinsema-grafica-bij-stadsgalerie-vooruitzicht-356175'>/agenda/2026/2/26/expositie-krin-rinsema-grafica-bij-stadsgalerie-vooruitzicht-356175</a> || <p>Met het werk van Krin Rinsema (1947) haalt Stadsgalerie Vooruitzicht een unieke grafica in huis die met de etsnaald veel zeggingskracht verleend aan haar werk.&nbsp;</p><p>Krin weet op grote en kleine formaten tedere beelden te scheppen van broze en breekbare mensen, die zeggingskracht hebben en compassie opwekken.</p><p>Deze expositie is van 26 februari tot en met 31 juli te bezoeken op de Nieuwe Markt 16 in Kampen. De markt is opgebroken maar de galerie is bereikbaar vanaf de Burgwal en de Buiten Nieuwestraat.</p>
DESCRIPTION:<a href='/agenda/2026/2/26/expositie-krin-rinsema-grafica-bij-stadsgalerie-vooruitzicht-356175'>/agenda/2026/2/26/expositie-krin-rinsema-grafica-bij-stadsgalerie-vooruitzicht-356175</a> || <p>Met het werk van Krin Rinsema (1947) haalt Stadsgalerie Vooruitzicht een unieke grafica in huis die met de etsnaald veel zeggingskracht verleend aan haar werk.&nbsp;</p><p>Krin weet op grote en kleine formaten tedere beelden te scheppen van broze en breekbare mensen, die zeggingskracht hebben en compassie opwekken.</p><p>Deze expositie is van 26 februari tot en met 31 juli te bezoeken op de Nieuwe Markt 16 in Kampen. De markt is opgebroken maar de galerie is bereikbaar vanaf de Burgwal en de Buiten Nieuwestraat.</p>
LAST-MODIFIED:20260422T173130Z
LOCATION: Stadsgalerie Vooruitzicht | Nieuwe Markt 16 Kampen
SEQUENCE:0
STATUS:CONFIRMED
SUMMARY:Expositie Krin Rinsema (grafica) bij Stadsgalerie Vooruitzicht
TRANSP:OPAQUE
END:VEVENT
END:VCALENDAR
