BEGIN:VCALENDAR
PRODID:-//PUBBLE//agenda//NL
VERSION:2.0
METHOD:PUBLISH
BEGIN:VEVENT
DTSTART:20260421T083000Z
DTEND:20260421T103000Z
DTSTAMP:20260421T132614Z
UID:470f3f7f-0fc6-4f22-9d45-e12291093abe
CREATED:20260421T132614Z
NAME:Per Te brugnieuws.nl
X-WR-CALNAME:Per Te
X-ALT-DESC;FMTTYPE=text/html:<a href='/agenda/2026/4/21/per-te-360031'>/agenda/2026/4/21/per-te-360031</a> || <p>Paolo is nog maar een prille veertiger wanneer hij vreselijk nieuws krijgt: hij lijdt aan een zeldzame vorm van de ziekte van Alzheimer en zal langzaamaan zijn geheugen verliezen. Wanneer zijn wereld begint te vervagen, kiest hij ervoor om het dagelijkse leven intensief te beleven. Gesterkt door de onvoorwaardelijke liefde van zijn vrouw Michela en hun zoontje Mattia verenigt deze pijnlijke reis het gezin. Samen maken ze nieuwe, waardevolle herinneringen. Info: www.filmhuiskampen.nl</p>
DESCRIPTION:<a href='/agenda/2026/4/21/per-te-360031'>/agenda/2026/4/21/per-te-360031</a> || <p>Paolo is nog maar een prille veertiger wanneer hij vreselijk nieuws krijgt: hij lijdt aan een zeldzame vorm van de ziekte van Alzheimer en zal langzaamaan zijn geheugen verliezen. Wanneer zijn wereld begint te vervagen, kiest hij ervoor om het dagelijkse leven intensief te beleven. Gesterkt door de onvoorwaardelijke liefde van zijn vrouw Michela en hun zoontje Mattia verenigt deze pijnlijke reis het gezin. Samen maken ze nieuwe, waardevolle herinneringen. Info: www.filmhuiskampen.nl</p>
LAST-MODIFIED:20260421T132614Z
LOCATION: Filmhuis Kampen | Burgwal 84 Kampen
SEQUENCE:0
STATUS:CONFIRMED
SUMMARY:Per Te
TRANSP:OPAQUE
END:VEVENT
END:VCALENDAR
