BEGIN:VCALENDAR
PRODID:-//PUBBLE//agenda//NL
VERSION:2.0
METHOD:PUBLISH
BEGIN:VEVENT
DTSTART:20260421T160000Z
DTEND:20260421T180000Z
DTSTAMP:20260421T082900Z
UID:d1eec964-17f1-401a-aeaa-3eee08722681
CREATED:20260421T082900Z
NAME:Blafbios! brugnieuws.nl
X-WR-CALNAME:Blafbios!
X-ALT-DESC;FMTTYPE=text/html:<a href='/agenda/2026/4/21/blafbios--360319'>/agenda/2026/4/21/blafbios--360319</a> || <p>Je hond mag op 21 april gratis mee naar de film Charlie the Wonderdog! Reserveer 2 stoelen, eentje voor jou en je hond, en reken 1 kaartje af bij de kassa!&nbsp;</p>
DESCRIPTION:<a href='/agenda/2026/4/21/blafbios--360319'>/agenda/2026/4/21/blafbios--360319</a> || <p>Je hond mag op 21 april gratis mee naar de film Charlie the Wonderdog! Reserveer 2 stoelen, eentje voor jou en je hond, en reken 1 kaartje af bij de kassa!&nbsp;</p>
LAST-MODIFIED:20260421T082900Z
LOCATION: City Bioscoop Kampen | Hofstraat 118 Kampen
SEQUENCE:0
STATUS:CONFIRMED
SUMMARY:Blafbios!
TRANSP:OPAQUE
END:VEVENT
END:VCALENDAR
