BEGIN:VCALENDAR
PRODID:-//PUBBLE//agenda//NL
VERSION:2.0
METHOD:PUBLISH
BEGIN:VEVENT
DTSTART:20260426T190000Z
DTEND:20260427T010000Z
DTSTAMP:20260424T193000Z
UID:2a4dfb6c-ed55-4c97-b60f-647fac98a344
CREATED:20260424T193000Z
NAME:Koningsnacht met Peter Veenstra & PartyRush brugnieuws.nl
X-WR-CALNAME:Koningsnacht met Peter Veenstra & PartyRush
X-ALT-DESC;FMTTYPE=text/html:<a href='/agenda/2026/4/26/koningsnacht-met-peter-veenstra-amp-partyrush-360505'>/agenda/2026/4/26/koningsnacht-met-peter-veenstra-amp-partyrush-360505</a> || <p>Vier Koningsnacht bij Abdij1472!</p>
DESCRIPTION:<a href='/agenda/2026/4/26/koningsnacht-met-peter-veenstra-amp-partyrush-360505'>/agenda/2026/4/26/koningsnacht-met-peter-veenstra-amp-partyrush-360505</a> || <p>Vier Koningsnacht bij Abdij1472!</p>
LAST-MODIFIED:20260424T193000Z
LOCATION: Abdij 1472 | Buiten Nieuwstraat  Kampen
SEQUENCE:0
STATUS:CONFIRMED
SUMMARY:Koningsnacht met Peter Veenstra & PartyRush
TRANSP:OPAQUE
END:VEVENT
END:VCALENDAR
