BEGIN:VCALENDAR
PRODID:-//PUBBLE//agenda//NL
VERSION:2.0
METHOD:PUBLISH
BEGIN:VEVENT
DTSTART:20260423T181500Z
DTEND:20260423T201500Z
DTSTAMP:20260419T134251Z
UID:591a7e4f-4fed-49ff-846b-9f76ba3dc8c0
CREATED:20260419T134251Z
NAME:Sirât brugnieuws.nl
X-WR-CALNAME:Sirât
X-ALT-DESC;FMTTYPE=text/html:<a href='/agenda/2026/4/23/sirat-360555'>/agenda/2026/4/23/sirat-360555</a> || <p>Louis gaat in Marokko met zijn zoon Stéphane op zoek naar zijn verdwenen dochter Marina. Ze sluiten zich aan bij een groep ravers die op hun beurt op zoek zijn naar het volgende feestje. Samen ondernemen ze een reis die hen tot in de diepe woestijn brengt. Te midden van het zand bereiken de aanwezigen hun persoonlijke grenzen. Voor verdere info: www.filmhuiskampen.nl</p>
DESCRIPTION:<a href='/agenda/2026/4/23/sirat-360555'>/agenda/2026/4/23/sirat-360555</a> || <p>Louis gaat in Marokko met zijn zoon Stéphane op zoek naar zijn verdwenen dochter Marina. Ze sluiten zich aan bij een groep ravers die op hun beurt op zoek zijn naar het volgende feestje. Samen ondernemen ze een reis die hen tot in de diepe woestijn brengt. Te midden van het zand bereiken de aanwezigen hun persoonlijke grenzen. Voor verdere info: www.filmhuiskampen.nl</p>
LAST-MODIFIED:20260419T134251Z
LOCATION: Filmhuis Kampen | Burgwal 84 Kampen
SEQUENCE:0
STATUS:CONFIRMED
SUMMARY:Sirât
TRANSP:OPAQUE
END:VEVENT
END:VCALENDAR
