BEGIN:VCALENDAR
PRODID:-//PUBBLE//agenda//NL
VERSION:2.0
METHOD:PUBLISH
BEGIN:VEVENT
DTSTART:20260427T130000Z
DTEND:20260427T170000Z
DTSTAMP:20260424T192545Z
UID:9f0493f6-4820-46f2-86d7-77dd2d90a3ef
CREATED:20260424T192545Z
NAME:Koningsdag 2026: Middagprogramma met live bands op Van Heutszplein brugnieuws.nl
X-WR-CALNAME:Koningsdag 2026: Middagprogramma met live bands op Van Heutszplein
X-ALT-DESC;FMTTYPE=text/html:<a href='/agenda/2026/4/27/koningsdag-2026-middagprogramma-met-live-bands-op-van-heutszplein-360990'>/agenda/2026/4/27/koningsdag-2026-middagprogramma-met-live-bands-op-van-heutszplein-360990</a> || <p>In Kampen staan maandag 27 april meerdere bands op het podium, waaronder Different, Soulmates en Sturgeon. Het programma vormt een muzikaal middelpunt van de dag.<br /><strong>Tijd:</strong> 15.00 – 19.00 uur. <strong>Locatie:</strong> De Gilden tent, Van Heutszplein</p>
DESCRIPTION:<a href='/agenda/2026/4/27/koningsdag-2026-middagprogramma-met-live-bands-op-van-heutszplein-360990'>/agenda/2026/4/27/koningsdag-2026-middagprogramma-met-live-bands-op-van-heutszplein-360990</a> || <p>In Kampen staan maandag 27 april meerdere bands op het podium, waaronder Different, Soulmates en Sturgeon. Het programma vormt een muzikaal middelpunt van de dag.<br /><strong>Tijd:</strong> 15.00 – 19.00 uur. <strong>Locatie:</strong> De Gilden tent, Van Heutszplein</p>
LAST-MODIFIED:20260424T192545Z
LOCATION: Van Heutszplein | Oudestraat  Kampen
SEQUENCE:0
STATUS:CONFIRMED
SUMMARY:Koningsdag 2026: Middagprogramma met live bands op Van Heutszplein
TRANSP:OPAQUE
END:VEVENT
END:VCALENDAR
