BEGIN:VCALENDAR
PRODID:-//PUBBLE//agenda//NL
VERSION:2.0
METHOD:PUBLISH
BEGIN:VEVENT
DTSTART:20260427T150000Z
DTEND:20260427T160000Z
DTSTAMP:20260424T192027Z
UID:06c27b05-8959-478e-a400-e2b486bdfe21
CREATED:20260424T192027Z
NAME:Koningsdag 2026: Oranjeconcert in de Bovenkerk brugnieuws.nl
X-WR-CALNAME:Koningsdag 2026: Oranjeconcert in de Bovenkerk
X-ALT-DESC;FMTTYPE=text/html:<a href='/agenda/2026/4/27/koningsdag-2026-oranjeconcert-in-de-bovenkerk-360991'>/agenda/2026/4/27/koningsdag-2026-oranjeconcert-in-de-bovenkerk-360991</a> || <p>In Kampen vindt maandag 27 april een gratis toegankelijk Oranjeconcert plaats in de Bovenkerk. Het concert maakt deel uit van de culturele invulling van Koningsdag.<br /><strong>Tijd:</strong> 17.00 – 18.00 uur, <strong>Locatie:</strong> Bovenkerk.</p>
DESCRIPTION:<a href='/agenda/2026/4/27/koningsdag-2026-oranjeconcert-in-de-bovenkerk-360991'>/agenda/2026/4/27/koningsdag-2026-oranjeconcert-in-de-bovenkerk-360991</a> || <p>In Kampen vindt maandag 27 april een gratis toegankelijk Oranjeconcert plaats in de Bovenkerk. Het concert maakt deel uit van de culturele invulling van Koningsdag.<br /><strong>Tijd:</strong> 17.00 – 18.00 uur, <strong>Locatie:</strong> Bovenkerk.</p>
LAST-MODIFIED:20260424T192027Z
LOCATION: Bovenkerk | Koornmarkt 28 Kampen
SEQUENCE:0
STATUS:CONFIRMED
SUMMARY:Koningsdag 2026: Oranjeconcert in de Bovenkerk
TRANSP:OPAQUE
END:VEVENT
END:VCALENDAR
