BEGIN:VCALENDAR
PRODID:-//PUBBLE//agenda//NL
VERSION:2.0
METHOD:PUBLISH
BEGIN:VEVENT
DTSTART:20260427T180000Z
DTEND:20260427T190000Z
DTSTAMP:20260424T192943Z
UID:8f1a369c-4bf1-42f1-b52c-dad1ad8a9540
CREATED:20260424T192943Z
NAME:Koningsdag 2026: De Vrienden van Broekhuis Live met Blue Finger Connection brugnieuws.nl
X-WR-CALNAME:Koningsdag 2026: De Vrienden van Broekhuis Live met Blue Finger Connection
X-ALT-DESC;FMTTYPE=text/html:<a href='/agenda/2026/4/27/koningsdag-2026-de-vrienden-van-broekhuis-live-met-blue-finger-connection-360993'>/agenda/2026/4/27/koningsdag-2026-de-vrienden-van-broekhuis-live-met-blue-finger-connection-360993</a> || <p>In Kampen sluit maandag 27 april de dag af met een avondprogramma in de feesttent. The Blue Finger Connection verzorgt een liveoptreden.<br /><strong>Tijd:</strong> 20.00 – 22.00 uur, <strong>Locatie:</strong> De Gilden tent, Van Heutszplein.</p>
DESCRIPTION:<a href='/agenda/2026/4/27/koningsdag-2026-de-vrienden-van-broekhuis-live-met-blue-finger-connection-360993'>/agenda/2026/4/27/koningsdag-2026-de-vrienden-van-broekhuis-live-met-blue-finger-connection-360993</a> || <p>In Kampen sluit maandag 27 april de dag af met een avondprogramma in de feesttent. The Blue Finger Connection verzorgt een liveoptreden.<br /><strong>Tijd:</strong> 20.00 – 22.00 uur, <strong>Locatie:</strong> De Gilden tent, Van Heutszplein.</p>
LAST-MODIFIED:20260424T192943Z
LOCATION: Van Heutszplein | Oudestraat  Kampen
SEQUENCE:0
STATUS:CONFIRMED
SUMMARY:Koningsdag 2026: De Vrienden van Broekhuis Live met Blue Finger Connection
TRANSP:OPAQUE
END:VEVENT
END:VCALENDAR
